BEGIN:VCALENDAR
VERSION:2.0
PRODID:-//Spring Vale School System - ECPv6.15.20//NONSGML v1.0//EN
CALSCALE:GREGORIAN
METHOD:PUBLISH
X-WR-CALNAME:Spring Vale School System
X-ORIGINAL-URL:https://www.springvale.us
X-WR-CALDESC:Events for Spring Vale School System
REFRESH-INTERVAL;VALUE=DURATION:PT1H
X-Robots-Tag:noindex
X-PUBLISHED-TTL:PT1H
BEGIN:VTIMEZONE
TZID:UTC
BEGIN:STANDARD
TZOFFSETFROM:+0000
TZOFFSETTO:+0000
TZNAME:UTC
DTSTART:20250101T000000
END:STANDARD
END:VTIMEZONE
BEGIN:VEVENT
DTSTART;TZID=UTC:20260205T180000
DTEND;TZID=UTC:20260205T190000
DTSTAMP:20260423T193244
CREATED:20260116T071434Z
LAST-MODIFIED:20260116T071434Z
UID:4582-1770314400-1770318000@www.springvale.us
SUMMARY:Flames Classic Basketball Game 1- St. Thomas vs. Bethav
DESCRIPTION:
URL:https://www.springvale.us/event/flames-classic-basketball-game-1-st-thomas-vs-bethav/
END:VEVENT
BEGIN:VEVENT
DTSTART;TZID=UTC:20260205T190000
DTEND;TZID=UTC:20260205T200000
DTSTAMP:20260423T193244
CREATED:20260116T071522Z
LAST-MODIFIED:20260116T071522Z
UID:4584-1770318000-1770321600@www.springvale.us
SUMMARY:Flames Classic Basketball Game 2- SVCS vs. Centerpointe
DESCRIPTION:
URL:https://www.springvale.us/event/flames-classic-basketball-game-2-svcs-vs-centerpointe/
END:VEVENT
END:VCALENDAR