BEGIN:VCALENDAR
VERSION:2.0
PRODID:-//Spring Vale School System - ECPv6.15.20//NONSGML v1.0//EN
CALSCALE:GREGORIAN
METHOD:PUBLISH
X-WR-CALNAME:Spring Vale School System
X-ORIGINAL-URL:https://www.springvale.us
X-WR-CALDESC:Events for Spring Vale School System
REFRESH-INTERVAL;VALUE=DURATION:PT1H
X-Robots-Tag:noindex
X-PUBLISHED-TTL:PT1H
BEGIN:VTIMEZONE
TZID:UTC
BEGIN:STANDARD
TZOFFSETFROM:+0000
TZOFFSETTO:+0000
TZNAME:UTC
DTSTART:20250101T000000
END:STANDARD
END:VTIMEZONE
BEGIN:VEVENT
DTSTART;VALUE=DATE:20260330
DTEND;VALUE=DATE:20260404
DTSTAMP:20260423T162243
CREATED:20260116T075553Z
LAST-MODIFIED:20260116T075553Z
UID:4629-1774828800-1775260799@www.springvale.us
SUMMARY:Spring Break
DESCRIPTION:
URL:https://www.springvale.us/event/spring-break/
END:VEVENT
END:VCALENDAR