BEGIN:VCALENDAR
VERSION:2.0
PRODID:-//Spring Vale School System - ECPv6.15.20//NONSGML v1.0//EN
CALSCALE:GREGORIAN
METHOD:PUBLISH
X-ORIGINAL-URL:https://www.springvale.us
X-WR-CALDESC:Events for Spring Vale School System
REFRESH-INTERVAL;VALUE=DURATION:PT1H
X-Robots-Tag:noindex
X-PUBLISHED-TTL:PT1H
BEGIN:VTIMEZONE
TZID:UTC
BEGIN:STANDARD
TZOFFSETFROM:+0000
TZOFFSETTO:+0000
TZNAME:UTC
DTSTART:20250101T000000
END:STANDARD
END:VTIMEZONE
BEGIN:VEVENT
DTSTART;VALUE=DATE:20260514
DTEND;VALUE=DATE:20260515
DTSTAMP:20260423T175801
CREATED:20260116T080047Z
LAST-MODIFIED:20260116T080047Z
UID:4639-1778716800-1778803199@www.springvale.us
SUMMARY:Grammar School Field Day
DESCRIPTION:
URL:https://www.springvale.us/event/grammar-school-field-day/
END:VEVENT
END:VCALENDAR