BEGIN:VCALENDAR
VERSION:2.0
PRODID:-//Spring Vale School System - ECPv6.15.20//NONSGML v1.0//EN
CALSCALE:GREGORIAN
METHOD:PUBLISH
X-WR-CALNAME:Spring Vale School System
X-ORIGINAL-URL:https://www.springvale.us
X-WR-CALDESC:Events for Spring Vale School System
REFRESH-INTERVAL;VALUE=DURATION:PT1H
X-Robots-Tag:noindex
X-PUBLISHED-TTL:PT1H
BEGIN:VTIMEZONE
TZID:UTC
BEGIN:STANDARD
TZOFFSETFROM:+0000
TZOFFSETTO:+0000
TZNAME:UTC
DTSTART:20250101T000000
END:STANDARD
END:VTIMEZONE
BEGIN:VEVENT
DTSTART;TZID=UTC:20260515T100000
DTEND;TZID=UTC:20260515T113000
DTSTAMP:20260423T180543
CREATED:20260116T080132Z
LAST-MODIFIED:20260120T131716Z
UID:4641-1778839200-1778844600@www.springvale.us
SUMMARY:Grammar School Graduation & End of Year Program
DESCRIPTION:
URL:https://www.springvale.us/event/grammar-school-graduation-end-of-year-program/
END:VEVENT
END:VCALENDAR