BEGIN:VCALENDAR
VERSION:2.0
PRODID:-//Spring Vale School System - ECPv6.15.20//NONSGML v1.0//EN
CALSCALE:GREGORIAN
METHOD:PUBLISH
X-WR-CALNAME:Spring Vale School System
X-ORIGINAL-URL:https://www.springvale.us
X-WR-CALDESC:Events for Spring Vale School System
REFRESH-INTERVAL;VALUE=DURATION:PT1H
X-Robots-Tag:noindex
X-PUBLISHED-TTL:PT1H
BEGIN:VTIMEZONE
TZID:UTC
BEGIN:STANDARD
TZOFFSETFROM:+0000
TZOFFSETTO:+0000
TZNAME:UTC
DTSTART:20250101T000000
END:STANDARD
END:VTIMEZONE
BEGIN:VEVENT
DTSTART;TZID=UTC:20260121T153000
DTEND;TZID=UTC:20260121T173000
DTSTAMP:20260424T002700
CREATED:20260116T070121Z
LAST-MODIFIED:20260116T070121Z
UID:4558-1769009400-1769016600@www.springvale.us
SUMMARY:Boy's Basketball Practice
DESCRIPTION:
URL:https://www.springvale.us/event/boys-basketball-practice-4/
END:VEVENT
BEGIN:VEVENT
DTSTART;TZID=UTC:20260120T153000
DTEND;TZID=UTC:20260120T173000
DTSTAMP:20260424T002700
CREATED:20260116T070028Z
LAST-MODIFIED:20260116T070028Z
UID:4556-1768923000-1768930200@www.springvale.us
SUMMARY:Boy's Basketball Practice
DESCRIPTION:
URL:https://www.springvale.us/event/boys-basketball-practice-3/
END:VEVENT
BEGIN:VEVENT
DTSTART;VALUE=DATE:20260119
DTEND;VALUE=DATE:20260120
DTSTAMP:20260424T002700
CREATED:20260116T065927Z
LAST-MODIFIED:20260116T103743Z
UID:4554-1768780800-1768867199@www.springvale.us
SUMMARY:No School
DESCRIPTION:
URL:https://www.springvale.us/event/no-school-3/
END:VEVENT
BEGIN:VEVENT
DTSTART;VALUE=DATE:20260119
DTEND;VALUE=DATE:20260120
DTSTAMP:20260424T002700
CREATED:20260116T065839Z
LAST-MODIFIED:20260116T114507Z
UID:4620-1768780800-1768867199@www.springvale.us
SUMMARY:Martin Luther King Jr. Day
DESCRIPTION:
URL:https://www.springvale.us/event/martin-luther-king-jr-day-2/
END:VEVENT
END:VCALENDAR