BEGIN:VCALENDAR
VERSION:2.0
PRODID:-//Spring Vale School System - ECPv6.15.20//NONSGML v1.0//EN
CALSCALE:GREGORIAN
METHOD:PUBLISH
X-WR-CALNAME:Spring Vale School System
X-ORIGINAL-URL:https://www.springvale.us
X-WR-CALDESC:Events for Spring Vale School System
REFRESH-INTERVAL;VALUE=DURATION:PT1H
X-Robots-Tag:noindex
X-PUBLISHED-TTL:PT1H
BEGIN:VTIMEZONE
TZID:UTC
BEGIN:STANDARD
TZOFFSETFROM:+0000
TZOFFSETTO:+0000
TZNAME:UTC
DTSTART:20250101T000000
END:STANDARD
END:VTIMEZONE
BEGIN:VEVENT
DTSTART;TZID=UTC:20260129T190000
DTEND;TZID=UTC:20260129T200000
DTSTAMP:20260423T230618
CREATED:20260116T070900Z
LAST-MODIFIED:20260128T194055Z
UID:4572-1769713200-1769716800@www.springvale.us
SUMMARY:Away Basketball Team A vs. St. Thomas More Academy
DESCRIPTION:
URL:https://www.springvale.us/event/away-basketball-team-a/
LOCATION:St. Thomas More Academy\, 6456 E. Bristol Rd.\, Burton\, MI\, 48519\, United States
END:VEVENT
BEGIN:VEVENT
DTSTART;TZID=UTC:20260129T180000
DTEND;TZID=UTC:20260129T190000
DTSTAMP:20260423T230618
CREATED:20260116T070742Z
LAST-MODIFIED:20260128T194250Z
UID:4570-1769709600-1769713200@www.springvale.us
SUMMARY:Away Basketball Team B vs. St. Thomas More Academy
DESCRIPTION:
URL:https://www.springvale.us/event/away-basketball-team-b/
LOCATION:St. Thomas More Academy\, 6456 E. Bristol Rd.\, Burton\, MI\, 48519\, United States
END:VEVENT
BEGIN:VEVENT
DTSTART;TZID=UTC:20260128T153000
DTEND;TZID=UTC:20260128T173000
DTSTAMP:20260423T230618
CREATED:20260116T070650Z
LAST-MODIFIED:20260116T070650Z
UID:4568-1769614200-1769621400@www.springvale.us
SUMMARY:Boy's Basketball Practice
DESCRIPTION:
URL:https://www.springvale.us/event/boys-basketball-practice-6/
END:VEVENT
BEGIN:VEVENT
DTSTART;TZID=UTC:20260127T173000
DTEND;TZID=UTC:20260127T183000
DTSTAMP:20260423T230618
CREATED:20260116T070559Z
LAST-MODIFIED:20260116T070559Z
UID:4566-1769535000-1769538600@www.springvale.us
SUMMARY:Home Basketball Team A vs. Bethaven
DESCRIPTION:
URL:https://www.springvale.us/event/home-basketball-team-a-vs-bethaven/
END:VEVENT
BEGIN:VEVENT
DTSTART;TZID=UTC:20260126T153000
DTEND;TZID=UTC:20260126T173000
DTSTAMP:20260423T230618
CREATED:20260116T070429Z
LAST-MODIFIED:20260116T070449Z
UID:4564-1769441400-1769448600@www.springvale.us
SUMMARY:Boy's Basketball Practice
DESCRIPTION:
URL:https://www.springvale.us/event/boys-basketball-practice-5/
END:VEVENT
BEGIN:VEVENT
DTSTART;TZID=UTC:20260122T183000
DTEND;TZID=UTC:20260122T193000
DTSTAMP:20260423T230618
CREATED:20260116T070321Z
LAST-MODIFIED:20260116T070321Z
UID:4562-1769106600-1769110200@www.springvale.us
SUMMARY:Away Basketball Team B vs. Life in Christ
DESCRIPTION:
URL:https://www.springvale.us/event/away-basketball-team-b-vs-life-in-christ/
END:VEVENT
BEGIN:VEVENT
DTSTART;TZID=UTC:20260122T173000
DTEND;TZID=UTC:20260122T183000
DTSTAMP:20260423T230618
CREATED:20260116T070214Z
LAST-MODIFIED:20260116T070214Z
UID:4560-1769103000-1769106600@www.springvale.us
SUMMARY:Away Basketball Boy's EL vs. Life in Christ
DESCRIPTION:
URL:https://www.springvale.us/event/away-basketball-boys-el-vs-life-in-christ/
END:VEVENT
BEGIN:VEVENT
DTSTART;TZID=UTC:20260121T153000
DTEND;TZID=UTC:20260121T173000
DTSTAMP:20260423T230618
CREATED:20260116T070121Z
LAST-MODIFIED:20260116T070121Z
UID:4558-1769009400-1769016600@www.springvale.us
SUMMARY:Boy's Basketball Practice
DESCRIPTION:
URL:https://www.springvale.us/event/boys-basketball-practice-4/
END:VEVENT
BEGIN:VEVENT
DTSTART;TZID=UTC:20260120T153000
DTEND;TZID=UTC:20260120T173000
DTSTAMP:20260423T230618
CREATED:20260116T070028Z
LAST-MODIFIED:20260116T070028Z
UID:4556-1768923000-1768930200@www.springvale.us
SUMMARY:Boy's Basketball Practice
DESCRIPTION:
URL:https://www.springvale.us/event/boys-basketball-practice-3/
END:VEVENT
BEGIN:VEVENT
DTSTART;VALUE=DATE:20260119
DTEND;VALUE=DATE:20260120
DTSTAMP:20260423T230618
CREATED:20260116T065927Z
LAST-MODIFIED:20260116T103743Z
UID:4554-1768780800-1768867199@www.springvale.us
SUMMARY:No School
DESCRIPTION:
URL:https://www.springvale.us/event/no-school-3/
END:VEVENT
BEGIN:VEVENT
DTSTART;VALUE=DATE:20260119
DTEND;VALUE=DATE:20260120
DTSTAMP:20260423T230618
CREATED:20260116T065839Z
LAST-MODIFIED:20260116T114507Z
UID:4620-1768780800-1768867199@www.springvale.us
SUMMARY:Martin Luther King Jr. Day
DESCRIPTION:
URL:https://www.springvale.us/event/martin-luther-king-jr-day-2/
END:VEVENT
END:VCALENDAR