BEGIN:VCALENDAR
VERSION:2.0
PRODID:-//Spring Vale School System - ECPv6.15.20//NONSGML v1.0//EN
CALSCALE:GREGORIAN
METHOD:PUBLISH
X-WR-CALNAME:Spring Vale School System
X-ORIGINAL-URL:https://www.springvale.us
X-WR-CALDESC:Events for Spring Vale School System
REFRESH-INTERVAL;VALUE=DURATION:PT1H
X-Robots-Tag:noindex
X-PUBLISHED-TTL:PT1H
BEGIN:VTIMEZONE
TZID:UTC
BEGIN:STANDARD
TZOFFSETFROM:+0000
TZOFFSETTO:+0000
TZNAME:UTC
DTSTART:20250101T000000
END:STANDARD
END:VTIMEZONE
BEGIN:VEVENT
DTSTART;TZID=UTC:20260422T160000
DTEND;TZID=UTC:20260422T180000
DTSTAMP:20260423T200131
CREATED:20260313T201422Z
LAST-MODIFIED:20260420T153235Z
UID:5391-1776873600-1776880800@www.springvale.us
SUMMARY:Clay Shooting- Comp 1
DESCRIPTION:
URL:https://www.springvale.us/event/clay-shooting-comp-1/
LOCATION:Durand Sportsmen’s Association\, 9551 E. Prior Road\, Durand\, 48429\, United States
END:VEVENT
BEGIN:VEVENT
DTSTART;VALUE=DATE:20260421
DTEND;VALUE=DATE:20260422
DTSTAMP:20260423T200131
CREATED:20260313T204848Z
LAST-MODIFIED:20260313T204848Z
UID:5415-1776729600-1776815999@www.springvale.us
SUMMARY:Music Festival
DESCRIPTION:
URL:https://www.springvale.us/event/music-festival/
END:VEVENT
BEGIN:VEVENT
DTSTART;TZID=UTC:20260420T160000
DTEND;TZID=UTC:20260420T180000
DTSTAMP:20260423T200131
CREATED:20260116T075750Z
LAST-MODIFIED:20260417T185925Z
UID:4633-1776700800-1776708000@www.springvale.us
SUMMARY:Boy's Basketball End of Season Party
DESCRIPTION:
URL:https://www.springvale.us/event/boys-basketball-end-of-season-party/
END:VEVENT
BEGIN:VEVENT
DTSTART;TZID=UTC:20260416T170000
DTEND;TZID=UTC:20260416T183000
DTSTAMP:20260423T200131
CREATED:20260414T120923Z
LAST-MODIFIED:20260415T191058Z
UID:5446-1776358800-1776364200@www.springvale.us
SUMMARY:Volleyball Dinner- Applebee's
DESCRIPTION:
URL:https://www.springvale.us/event/volleyball-dinner-applebees/
END:VEVENT
BEGIN:VEVENT
DTSTART;VALUE=DATE:20260415
DTEND;VALUE=DATE:20260416
DTSTAMP:20260423T200131
CREATED:20260313T205357Z
LAST-MODIFIED:20260313T205357Z
UID:5421-1776211200-1776297599@www.springvale.us
SUMMARY:3rd-6th Field Trip- Greenfield Village
DESCRIPTION:
URL:https://www.springvale.us/event/3rd-6th-field-trip-greenfield-village/
END:VEVENT
BEGIN:VEVENT
DTSTART;TZID=UTC:20260414T170000
DTEND;TZID=UTC:20260414T190000
DTSTAMP:20260423T200131
CREATED:20260313T201127Z
LAST-MODIFIED:20260313T201323Z
UID:5387-1776186000-1776193200@www.springvale.us
SUMMARY:Clay Shooting-Reserve Week
DESCRIPTION:
URL:https://www.springvale.us/event/clay-shooting-reserve-week/
LOCATION:Looking Glass Sportsman Club\, 8855 Woodbury Rd.\, Laingsburg\, MI\, 48848\, United States
END:VEVENT
BEGIN:VEVENT
DTSTART;TZID=UTC:20260413T080000
DTEND;TZID=UTC:20260414T170000
DTSTAMP:20260423T200131
CREATED:20260311T200744Z
LAST-MODIFIED:20260311T200744Z
UID:5377-1776067200-1776186000@www.springvale.us
SUMMARY:Iowa Assessments
DESCRIPTION:
URL:https://www.springvale.us/event/iowa-assessments/
END:VEVENT
BEGIN:VEVENT
DTSTART;TZID=UTC:20260407T160000
DTEND;TZID=UTC:20260407T173000
DTSTAMP:20260423T200131
CREATED:20260323T191715Z
LAST-MODIFIED:20260323T191715Z
UID:5439-1775577600-1775583000@www.springvale.us
SUMMARY:Clay Team Practice
DESCRIPTION:
URL:https://www.springvale.us/event/clay-team-practice-2/
LOCATION:Looking Glass Sportsman Club\, 8855 Woodbury Rd.\, Laingsburg\, MI\, 48848\, United States
END:VEVENT
BEGIN:VEVENT
DTSTART;VALUE=DATE:20260405
DTEND;VALUE=DATE:20260406
DTSTAMP:20260423T200131
CREATED:20260116T075527Z
LAST-MODIFIED:20260120T130102Z
UID:4909-1775347200-1775433599@www.springvale.us
SUMMARY:Easter Sunday
DESCRIPTION:
URL:https://www.springvale.us/event/easter-sunday/
END:VEVENT
BEGIN:VEVENT
DTSTART;TZID=UTC:20260331T160000
DTEND;TZID=UTC:20260331T173000
DTSTAMP:20260423T200131
CREATED:20260323T191604Z
LAST-MODIFIED:20260323T191618Z
UID:5437-1774972800-1774978200@www.springvale.us
SUMMARY:Clay Team Practice
DESCRIPTION:
URL:https://www.springvale.us/event/clay-team-practice/
LOCATION:Looking Glass Sportsman Club\, 8855 Woodbury Rd.\, Laingsburg\, MI\, 48848\, United States
END:VEVENT
BEGIN:VEVENT
DTSTART;VALUE=DATE:20260330
DTEND;VALUE=DATE:20260404
DTSTAMP:20260423T200131
CREATED:20260116T075553Z
LAST-MODIFIED:20260116T075553Z
UID:4629-1774828800-1775260799@www.springvale.us
SUMMARY:Spring Break
DESCRIPTION:
URL:https://www.springvale.us/event/spring-break/
END:VEVENT
BEGIN:VEVENT
DTSTART;VALUE=DATE:20260324
DTEND;VALUE=DATE:20260326
DTSTAMP:20260423T200131
CREATED:20260313T200816Z
LAST-MODIFIED:20260313T200816Z
UID:5383-1774310400-1774483199@www.springvale.us
SUMMARY:Upper School Parent/Teacher Conferences
DESCRIPTION:
URL:https://www.springvale.us/event/upper-school-parent-teacher-conferences/
END:VEVENT
BEGIN:VEVENT
DTSTART;VALUE=DATE:20260323
DTEND;VALUE=DATE:20260325
DTSTAMP:20260423T200131
CREATED:20260313T200739Z
LAST-MODIFIED:20260313T200739Z
UID:5381-1774224000-1774396799@www.springvale.us
SUMMARY:Grammar School Parent/Teacher Conferences
DESCRIPTION:
URL:https://www.springvale.us/event/grammar-school-parent-teacher-conferences-2/
END:VEVENT
BEGIN:VEVENT
DTSTART;TZID=UTC:20260322T140000
DTEND;TZID=UTC:20260322T150000
DTSTAMP:20260423T200131
CREATED:20260116T075359Z
LAST-MODIFIED:20260313T202937Z
UID:4627-1774188000-1774191600@www.springvale.us
SUMMARY:Basketball Alumni vs. Alumni
DESCRIPTION:
URL:https://www.springvale.us/event/basketball-alumni-vs-alumni/
END:VEVENT
BEGIN:VEVENT
DTSTART;TZID=UTC:20260322T120000
DTEND;TZID=UTC:20260322T133000
DTSTAMP:20260423T200131
CREATED:20260116T075249Z
LAST-MODIFIED:20260313T202835Z
UID:4625-1774180800-1774186200@www.springvale.us
SUMMARY:Varsity Flames vs. Alumni Men
DESCRIPTION:
URL:https://www.springvale.us/event/basketball-team-a-vs-alumni/
END:VEVENT
BEGIN:VEVENT
DTSTART;TZID=UTC:20260322T080000
DTEND;TZID=UTC:20260322T110000
DTSTAMP:20260423T200131
CREATED:20260313T203041Z
LAST-MODIFIED:20260313T203041Z
UID:5408-1774166400-1774177200@www.springvale.us
SUMMARY:3rd Annual Pickleball Tournament
DESCRIPTION:
URL:https://www.springvale.us/event/3rd-annual-pickleball-tournament/
END:VEVENT
BEGIN:VEVENT
DTSTART;TZID=UTC:20260321T220000
DTEND;TZID=UTC:20260321T230000
DTSTAMP:20260423T200131
CREATED:20260313T203158Z
LAST-MODIFIED:20260313T203158Z
UID:5410-1774130400-1774134000@www.springvale.us
SUMMARY:2-Ball Basketball Tournament
DESCRIPTION:
URL:https://www.springvale.us/event/2-ball-basketball-tournament/
END:VEVENT
BEGIN:VEVENT
DTSTART;TZID=UTC:20260321T204500
DTEND;TZID=UTC:20260321T220000
DTSTAMP:20260423T200131
CREATED:20260116T075138Z
LAST-MODIFIED:20260313T203349Z
UID:4623-1774125900-1774130400@www.springvale.us
SUMMARY:Lady Flames Volleyball vs. Alumni
DESCRIPTION:
URL:https://www.springvale.us/event/volleyball-vs-alumni/
END:VEVENT
BEGIN:VEVENT
DTSTART;TZID=UTC:20260320T173000
DTEND;TZID=UTC:20260320T190000
DTSTAMP:20260423T200131
CREATED:20260313T202635Z
LAST-MODIFIED:20260313T202635Z
UID:5405-1774027800-1774033200@www.springvale.us
SUMMARY:Alumni\, Family and Friends Dinner
DESCRIPTION:
URL:https://www.springvale.us/event/alumni-family-and-friends-dinner/
END:VEVENT
BEGIN:VEVENT
DTSTART;VALUE=DATE:20260320
DTEND;VALUE=DATE:20260323
DTSTAMP:20260423T200131
CREATED:20260313T200904Z
LAST-MODIFIED:20260313T200904Z
UID:5385-1773964800-1774223999@www.springvale.us
SUMMARY:Alumni Weekend
DESCRIPTION:
URL:https://www.springvale.us/event/alumni-weekend/
END:VEVENT
BEGIN:VEVENT
DTSTART;VALUE=DATE:20260320
DTEND;VALUE=DATE:20260321
DTSTAMP:20260423T200131
CREATED:20260116T074645Z
LAST-MODIFIED:20260116T074813Z
UID:4618-1773964800-1774051199@www.springvale.us
SUMMARY:1/2 Day School
DESCRIPTION:
URL:https://www.springvale.us/event/1-2-day-school/
END:VEVENT
BEGIN:VEVENT
DTSTART;TZID=UTC:20260319T180000
DTEND;TZID=UTC:20260319T193000
DTSTAMP:20260423T200131
CREATED:20260310T122504Z
LAST-MODIFIED:20260310T122504Z
UID:5272-1773943200-1773948600@www.springvale.us
SUMMARY:Girl's Volleyball Practice
DESCRIPTION:
URL:https://www.springvale.us/event/girls-volleyball-practice-4/
END:VEVENT
BEGIN:VEVENT
DTSTART;TZID=UTC:20260319T153000
DTEND;TZID=UTC:20260319T173000
DTSTAMP:20260423T200131
CREATED:20260310T122310Z
LAST-MODIFIED:20260310T122310Z
UID:5264-1773934200-1773941400@www.springvale.us
SUMMARY:Boy's Basketball Practice
DESCRIPTION:
URL:https://www.springvale.us/event/boys-basketball-practice-19/
END:VEVENT
BEGIN:VEVENT
DTSTART;TZID=UTC:20260318T180000
DTEND;TZID=UTC:20260318T193000
DTSTAMP:20260423T200131
CREATED:20260310T122444Z
LAST-MODIFIED:20260310T122444Z
UID:5270-1773856800-1773862200@www.springvale.us
SUMMARY:Girl's Volleyball Practice
DESCRIPTION:
URL:https://www.springvale.us/event/girls-volleyball-practice-3/
END:VEVENT
BEGIN:VEVENT
DTSTART;TZID=UTC:20260318T153000
DTEND;TZID=UTC:20260318T173000
DTSTAMP:20260423T200131
CREATED:20260310T122244Z
LAST-MODIFIED:20260310T122244Z
UID:5262-1773847800-1773855000@www.springvale.us
SUMMARY:Boy's Basketball Practice
DESCRIPTION:
URL:https://www.springvale.us/event/boys-basketball-practice-18/
END:VEVENT
BEGIN:VEVENT
DTSTART;VALUE=DATE:20260318
DTEND;VALUE=DATE:20260320
DTSTAMP:20260423T200131
CREATED:20260310T122757Z
LAST-MODIFIED:20260313T200658Z
UID:5274-1773792000-1773964799@www.springvale.us
SUMMARY:Grammar School Parent/Teacher Conferences
DESCRIPTION:
URL:https://www.springvale.us/event/grammar-school-parent-teacher-conferences/
END:VEVENT
BEGIN:VEVENT
DTSTART;TZID=UTC:20260317T180000
DTEND;TZID=UTC:20260317T193000
DTSTAMP:20260423T200131
CREATED:20260310T122423Z
LAST-MODIFIED:20260310T122423Z
UID:5268-1773770400-1773775800@www.springvale.us
SUMMARY:Girl's Volleyball Practice
DESCRIPTION:
URL:https://www.springvale.us/event/girls-volleyball-practice-2/
END:VEVENT
BEGIN:VEVENT
DTSTART;TZID=UTC:20260317T153000
DTEND;TZID=UTC:20260317T173000
DTSTAMP:20260423T200131
CREATED:20260310T122215Z
LAST-MODIFIED:20260310T122215Z
UID:5260-1773761400-1773768600@www.springvale.us
SUMMARY:Boy's Basketball Practice
DESCRIPTION:
URL:https://www.springvale.us/event/boys-basketball-practice-17/
END:VEVENT
BEGIN:VEVENT
DTSTART;VALUE=DATE:20260317
DTEND;VALUE=DATE:20260318
DTSTAMP:20260423T200131
CREATED:20260119T194110Z
LAST-MODIFIED:20260210T161342Z
UID:4792-1773705600-1773791999@www.springvale.us
SUMMARY:St. Patricks Day
DESCRIPTION:
URL:https://www.springvale.us/event/patricks-day/
END:VEVENT
BEGIN:VEVENT
DTSTART;TZID=UTC:20260316T180000
DTEND;TZID=UTC:20260316T193000
DTSTAMP:20260423T200131
CREATED:20260310T122354Z
LAST-MODIFIED:20260310T122559Z
UID:5266-1773684000-1773689400@www.springvale.us
SUMMARY:Girl's Volleyball Practice
DESCRIPTION:
URL:https://www.springvale.us/event/girls-volleyball-practice/
END:VEVENT
END:VCALENDAR