BEGIN:VCALENDAR
VERSION:2.0
PRODID:-//Spring Vale School System - ECPv6.15.20//NONSGML v1.0//EN
CALSCALE:GREGORIAN
METHOD:PUBLISH
X-ORIGINAL-URL:https://www.springvale.us
X-WR-CALDESC:Events for Spring Vale School System
REFRESH-INTERVAL;VALUE=DURATION:PT1H
X-Robots-Tag:noindex
X-PUBLISHED-TTL:PT1H
BEGIN:VTIMEZONE
TZID:UTC
BEGIN:STANDARD
TZOFFSETFROM:+0000
TZOFFSETTO:+0000
TZNAME:UTC
DTSTART:20250101T000000
END:STANDARD
END:VTIMEZONE
BEGIN:VEVENT
DTSTART;TZID=UTC:20260524T130000
DTEND;TZID=UTC:20260524T143000
DTSTAMP:20260423T230723
CREATED:20260116T080211Z
LAST-MODIFIED:20260313T202144Z
UID:4918-1779627600-1779633000@www.springvale.us
SUMMARY:High School Graduation
DESCRIPTION:
URL:https://www.springvale.us/event/high-school-graduation/
END:VEVENT
BEGIN:VEVENT
DTSTART;VALUE=DATE:20260525
DTEND;VALUE=DATE:20260526
DTSTAMP:20260423T230723
CREATED:20260116T080247Z
LAST-MODIFIED:20260120T132224Z
UID:4920-1779667200-1779753599@www.springvale.us
SUMMARY:Memorial Day
DESCRIPTION:
URL:https://www.springvale.us/event/memorial-day/
END:VEVENT
END:VCALENDAR