BEGIN:VCALENDAR
VERSION:2.0
PRODID:-//Spring Vale School System - ECPv6.15.20//NONSGML v1.0//EN
CALSCALE:GREGORIAN
METHOD:PUBLISH
X-WR-CALNAME:Spring Vale School System
X-ORIGINAL-URL:https://www.springvale.us
X-WR-CALDESC:Events for Spring Vale School System
REFRESH-INTERVAL;VALUE=DURATION:PT1H
X-Robots-Tag:noindex
X-PUBLISHED-TTL:PT1H
BEGIN:VTIMEZONE
TZID:UTC
BEGIN:STANDARD
TZOFFSETFROM:+0000
TZOFFSETTO:+0000
TZNAME:UTC
DTSTART:20250101T000000
END:STANDARD
END:VTIMEZONE
BEGIN:VEVENT
DTSTART;TZID=UTC:20260319T180000
DTEND;TZID=UTC:20260319T193000
DTSTAMP:20260423T230934
CREATED:20260310T122504Z
LAST-MODIFIED:20260310T122504Z
UID:5272-1773943200-1773948600@www.springvale.us
SUMMARY:Girl's Volleyball Practice
DESCRIPTION:
URL:https://www.springvale.us/event/girls-volleyball-practice-4/
END:VEVENT
BEGIN:VEVENT
DTSTART;TZID=UTC:20260319T153000
DTEND;TZID=UTC:20260319T173000
DTSTAMP:20260423T230934
CREATED:20260310T122310Z
LAST-MODIFIED:20260310T122310Z
UID:5264-1773934200-1773941400@www.springvale.us
SUMMARY:Boy's Basketball Practice
DESCRIPTION:
URL:https://www.springvale.us/event/boys-basketball-practice-19/
END:VEVENT
BEGIN:VEVENT
DTSTART;TZID=UTC:20260318T180000
DTEND;TZID=UTC:20260318T193000
DTSTAMP:20260423T230934
CREATED:20260310T122444Z
LAST-MODIFIED:20260310T122444Z
UID:5270-1773856800-1773862200@www.springvale.us
SUMMARY:Girl's Volleyball Practice
DESCRIPTION:
URL:https://www.springvale.us/event/girls-volleyball-practice-3/
END:VEVENT
BEGIN:VEVENT
DTSTART;TZID=UTC:20260318T153000
DTEND;TZID=UTC:20260318T173000
DTSTAMP:20260423T230934
CREATED:20260310T122244Z
LAST-MODIFIED:20260310T122244Z
UID:5262-1773847800-1773855000@www.springvale.us
SUMMARY:Boy's Basketball Practice
DESCRIPTION:
URL:https://www.springvale.us/event/boys-basketball-practice-18/
END:VEVENT
BEGIN:VEVENT
DTSTART;VALUE=DATE:20260318
DTEND;VALUE=DATE:20260320
DTSTAMP:20260423T230934
CREATED:20260310T122757Z
LAST-MODIFIED:20260313T200658Z
UID:5274-1773792000-1773964799@www.springvale.us
SUMMARY:Grammar School Parent/Teacher Conferences
DESCRIPTION:
URL:https://www.springvale.us/event/grammar-school-parent-teacher-conferences/
END:VEVENT
BEGIN:VEVENT
DTSTART;TZID=UTC:20260317T180000
DTEND;TZID=UTC:20260317T193000
DTSTAMP:20260423T230934
CREATED:20260310T122423Z
LAST-MODIFIED:20260310T122423Z
UID:5268-1773770400-1773775800@www.springvale.us
SUMMARY:Girl's Volleyball Practice
DESCRIPTION:
URL:https://www.springvale.us/event/girls-volleyball-practice-2/
END:VEVENT
BEGIN:VEVENT
DTSTART;TZID=UTC:20260317T153000
DTEND;TZID=UTC:20260317T173000
DTSTAMP:20260423T230934
CREATED:20260310T122215Z
LAST-MODIFIED:20260310T122215Z
UID:5260-1773761400-1773768600@www.springvale.us
SUMMARY:Boy's Basketball Practice
DESCRIPTION:
URL:https://www.springvale.us/event/boys-basketball-practice-17/
END:VEVENT
BEGIN:VEVENT
DTSTART;VALUE=DATE:20260317
DTEND;VALUE=DATE:20260318
DTSTAMP:20260423T230934
CREATED:20260119T194110Z
LAST-MODIFIED:20260210T161342Z
UID:4792-1773705600-1773791999@www.springvale.us
SUMMARY:St. Patricks Day
DESCRIPTION:
URL:https://www.springvale.us/event/patricks-day/
END:VEVENT
BEGIN:VEVENT
DTSTART;TZID=UTC:20260316T180000
DTEND;TZID=UTC:20260316T193000
DTSTAMP:20260423T230934
CREATED:20260310T122354Z
LAST-MODIFIED:20260310T122559Z
UID:5266-1773684000-1773689400@www.springvale.us
SUMMARY:Girl's Volleyball Practice
DESCRIPTION:
URL:https://www.springvale.us/event/girls-volleyball-practice/
END:VEVENT
BEGIN:VEVENT
DTSTART;TZID=UTC:20260316T153000
DTEND;TZID=UTC:20260316T173000
DTSTAMP:20260423T230934
CREATED:20260310T122122Z
LAST-MODIFIED:20260310T122122Z
UID:5258-1773675000-1773682200@www.springvale.us
SUMMARY:Boy's Basketball Practice
DESCRIPTION:
URL:https://www.springvale.us/event/boys-basketball-practice-13/
END:VEVENT
BEGIN:VEVENT
DTSTART;VALUE=DATE:20260313
DTEND;VALUE=DATE:20260314
DTSTAMP:20260423T230934
CREATED:20260116T074610Z
LAST-MODIFIED:20260210T161411Z
UID:4616-1773360000-1773446399@www.springvale.us
SUMMARY:End of 3rd Quarter
DESCRIPTION:
URL:https://www.springvale.us/event/end-of-3rd-quarter/
END:VEVENT
BEGIN:VEVENT
DTSTART;VALUE=DATE:20260308
DTEND;VALUE=DATE:20260309
DTSTAMP:20260423T230934
CREATED:20260119T194015Z
LAST-MODIFIED:20260119T194015Z
UID:4790-1772928000-1773014399@www.springvale.us
SUMMARY:Daylight Savings Time
DESCRIPTION:
URL:https://www.springvale.us/event/daylight-savings-time/
END:VEVENT
BEGIN:VEVENT
DTSTART;TZID=UTC:20260226T183000
DTEND;TZID=UTC:20260226T193000
DTSTAMP:20260423T230934
CREATED:20260116T074532Z
LAST-MODIFIED:20260116T074532Z
UID:4614-1772130600-1772134200@www.springvale.us
SUMMARY:Home Basketball Team A vs. Central MI Home School
DESCRIPTION:
URL:https://www.springvale.us/event/home-basketball-team-a-vs-central-mi-home-school/
END:VEVENT
BEGIN:VEVENT
DTSTART;TZID=UTC:20260226T183000
DTEND;TZID=UTC:20260226T183000
DTSTAMP:20260423T230934
CREATED:20260210T173535Z
LAST-MODIFIED:20260210T173535Z
UID:5176-1772130600-1772130600@www.springvale.us
SUMMARY:Senior Night
DESCRIPTION:
URL:https://www.springvale.us/event/senior-night/
END:VEVENT
BEGIN:VEVENT
DTSTART;TZID=UTC:20260226T173000
DTEND;TZID=UTC:20260226T183000
DTSTAMP:20260423T230934
CREATED:20260116T074440Z
LAST-MODIFIED:20260116T074440Z
UID:4612-1772127000-1772130600@www.springvale.us
SUMMARY:Home Basketball Team B vs. Central MI Home School
DESCRIPTION:
URL:https://www.springvale.us/event/home-basketball-team-b-vs-central-mi-home-school/
END:VEVENT
BEGIN:VEVENT
DTSTART;TZID=UTC:20260225T153000
DTEND;TZID=UTC:20260225T173000
DTSTAMP:20260423T230934
CREATED:20260116T074320Z
LAST-MODIFIED:20260116T074320Z
UID:4610-1772033400-1772040600@www.springvale.us
SUMMARY:Boy's Basketball Practice
DESCRIPTION:
URL:https://www.springvale.us/event/boys-basketball-practice-16/
END:VEVENT
BEGIN:VEVENT
DTSTART;TZID=UTC:20260224T173000
DTEND;TZID=UTC:20260224T183000
DTSTAMP:20260423T230934
CREATED:20260116T074052Z
LAST-MODIFIED:20260128T202123Z
UID:4608-1771954200-1771957800@www.springvale.us
SUMMARY:Away Basketball Team A vs. Bethaven
DESCRIPTION:
URL:https://www.springvale.us/event/away-basketball-team-a-vs-bethaven/
LOCATION:Bethaven Baptist Church\, 1158 W. Carson City Rd.\, Sheridan\, MI\, 48884\, United States
END:VEVENT
BEGIN:VEVENT
DTSTART;TZID=UTC:20260223T153000
DTEND;TZID=UTC:20260223T173000
DTSTAMP:20260423T230934
CREATED:20260116T072949Z
LAST-MODIFIED:20260116T073955Z
UID:4606-1771860600-1771867800@www.springvale.us
SUMMARY:Boy's Basketball Practice
DESCRIPTION:
URL:https://www.springvale.us/event/boys-basketball-practice-15/
END:VEVENT
BEGIN:VEVENT
DTSTART;VALUE=DATE:20260220
DTEND;VALUE=DATE:20260221
DTSTAMP:20260423T230934
CREATED:20260210T212420Z
LAST-MODIFIED:20260210T212420Z
UID:5178-1771545600-1771631999@www.springvale.us
SUMMARY:100th Day of School
DESCRIPTION:
URL:https://www.springvale.us/event/100th-day-of-school/
END:VEVENT
BEGIN:VEVENT
DTSTART;TZID=UTC:20260219T153000
DTEND;TZID=UTC:20260219T173000
DTSTAMP:20260423T230934
CREATED:20260116T072858Z
LAST-MODIFIED:20260219T155347Z
UID:4604-1771515000-1771522200@www.springvale.us
SUMMARY:Away Basketball Team B vs. Waterbrook
DESCRIPTION:
URL:https://www.springvale.us/event/away-basketball-team-b-vs-waterbrook/
LOCATION:Emmanuel Church Grand Blanc\, 2112 E. Maple Ave.\, Flint\, 48507\, United States
END:VEVENT
BEGIN:VEVENT
DTSTART;TZID=UTC:20260218T153000
DTEND;TZID=UTC:20260218T173000
DTSTAMP:20260423T230934
CREATED:20260116T072812Z
LAST-MODIFIED:20260116T072812Z
UID:4602-1771428600-1771435800@www.springvale.us
SUMMARY:Boy's Basketball Practice
DESCRIPTION:
URL:https://www.springvale.us/event/boys-basketball-practice-14/
END:VEVENT
BEGIN:VEVENT
DTSTART;VALUE=DATE:20260217
DTEND;VALUE=DATE:20260218
DTSTAMP:20260423T230934
CREATED:20260116T072728Z
LAST-MODIFIED:20260116T072728Z
UID:4600-1771286400-1771372799@www.springvale.us
SUMMARY:Caberfae Ski Trip
DESCRIPTION:
URL:https://www.springvale.us/event/caberfae-ski-trip/
END:VEVENT
BEGIN:VEVENT
DTSTART;VALUE=DATE:20260216
DTEND;VALUE=DATE:20260217
DTSTAMP:20260423T230934
CREATED:20260119T193943Z
LAST-MODIFIED:20260119T193943Z
UID:4788-1771200000-1771286399@www.springvale.us
SUMMARY:Presidents day
DESCRIPTION:
URL:https://www.springvale.us/event/presidents-day/
END:VEVENT
BEGIN:VEVENT
DTSTART;VALUE=DATE:20260216
DTEND;VALUE=DATE:20260217
DTSTAMP:20260423T230934
CREATED:20260116T072653Z
LAST-MODIFIED:20260116T072653Z
UID:4598-1771200000-1771286399@www.springvale.us
SUMMARY:No School
DESCRIPTION:
URL:https://www.springvale.us/event/no-school-2/
END:VEVENT
BEGIN:VEVENT
DTSTART;VALUE=DATE:20260214
DTEND;VALUE=DATE:20260215
DTSTAMP:20260423T230934
CREATED:20260119T193632Z
LAST-MODIFIED:20260119T193632Z
UID:4786-1771027200-1771113599@www.springvale.us
SUMMARY:Valentines Day
DESCRIPTION:
URL:https://www.springvale.us/event/valentines-day/
END:VEVENT
BEGIN:VEVENT
DTSTART;TZID=UTC:20260212T183000
DTEND;TZID=UTC:20260212T193000
DTSTAMP:20260423T230934
CREATED:20260210T171832Z
LAST-MODIFIED:20260210T171832Z
UID:5174-1770921000-1770924600@www.springvale.us
SUMMARY:Away Basketball Team A vs. CenterPoint
DESCRIPTION:
URL:https://www.springvale.us/event/away-basketball-team-a-vs-centerpoint/
LOCATION:CenterPoint Christian Academy\, 1225 S. Center Rd.\, Burton\, MI\, 48509\, United States
END:VEVENT
BEGIN:VEVENT
DTSTART;TZID=UTC:20260212T173000
DTEND;TZID=UTC:20260212T183000
DTSTAMP:20260423T230934
CREATED:20260210T171752Z
LAST-MODIFIED:20260210T171752Z
UID:5172-1770917400-1770921000@www.springvale.us
SUMMARY:Away Baskteball Team B vs. CenterPoint
DESCRIPTION:
URL:https://www.springvale.us/event/away-baskteball-team-b-vs-centerpoint/
LOCATION:CenterPoint Christian Academy\, 1225 S. Center Rd.\, Burton\, MI\, 48509\, United States
END:VEVENT
BEGIN:VEVENT
DTSTART;TZID=UTC:20260211T153000
DTEND;TZID=UTC:20260211T173000
DTSTAMP:20260423T230934
CREATED:20260116T072331Z
LAST-MODIFIED:20260116T072331Z
UID:4594-1770823800-1770831000@www.springvale.us
SUMMARY:Boy's Basketball Practice
DESCRIPTION:
URL:https://www.springvale.us/event/boys-basketball-practice-12/
END:VEVENT
BEGIN:VEVENT
DTSTART;TZID=UTC:20260210T153000
DTEND;TZID=UTC:20260210T173000
DTSTAMP:20260423T230934
CREATED:20260116T072250Z
LAST-MODIFIED:20260116T072250Z
UID:4592-1770737400-1770744600@www.springvale.us
SUMMARY:Boy's Basketball Practice
DESCRIPTION:
URL:https://www.springvale.us/event/boys-basketball-practice-11/
END:VEVENT
BEGIN:VEVENT
DTSTART;TZID=UTC:20260209T153000
DTEND;TZID=UTC:20260209T173000
DTSTAMP:20260423T230934
CREATED:20260116T072201Z
LAST-MODIFIED:20260116T072201Z
UID:4590-1770651000-1770658200@www.springvale.us
SUMMARY:Boy's Basketball Practice
DESCRIPTION:
URL:https://www.springvale.us/event/boys-basketball-practice-10/
END:VEVENT
END:VCALENDAR