BEGIN:VCALENDAR
VERSION:2.0
PRODID:-//Spring Vale School System - ECPv6.15.20//NONSGML v1.0//EN
CALSCALE:GREGORIAN
METHOD:PUBLISH
X-ORIGINAL-URL:https://www.springvale.us
X-WR-CALDESC:Events for Spring Vale School System
REFRESH-INTERVAL;VALUE=DURATION:PT1H
X-Robots-Tag:noindex
X-PUBLISHED-TTL:PT1H
BEGIN:VTIMEZONE
TZID:UTC
BEGIN:STANDARD
TZOFFSETFROM:+0000
TZOFFSETTO:+0000
TZNAME:UTC
DTSTART:20250101T000000
END:STANDARD
END:VTIMEZONE
BEGIN:VEVENT
DTSTART;TZID=UTC:20260423T173000
DTEND;TZID=UTC:20260423T183000
DTSTAMP:20260423T144527
CREATED:20260116T075646Z
LAST-MODIFIED:20260210T161225Z
UID:4631-1776965400-1776969000@www.springvale.us
SUMMARY:Sports Awards Fourth Annual Ice Cream Social
DESCRIPTION:
URL:https://www.springvale.us/event/sports-awards-fourth-annual-ice-cream-social/
END:VEVENT
BEGIN:VEVENT
DTSTART;VALUE=DATE:20260426
DTEND;VALUE=DATE:20260502
DTSTAMP:20260423T144527
CREATED:20260313T204924Z
LAST-MODIFIED:20260325T140226Z
UID:5417-1777161600-1777679999@www.springvale.us
SUMMARY:Senior Class Trip
DESCRIPTION:
URL:https://www.springvale.us/event/senior-class-trip/
END:VEVENT
BEGIN:VEVENT
DTSTART;TZID=UTC:20260428T170000
DTEND;TZID=UTC:20260428T190000
DTSTAMP:20260423T144527
CREATED:20260313T201500Z
LAST-MODIFIED:20260313T201500Z
UID:5393-1777395600-1777402800@www.springvale.us
SUMMARY:Clay Shooting- Comp 2
DESCRIPTION:
URL:https://www.springvale.us/event/clay-shooting-comp-2/
LOCATION:Looking Glass Sportsman Club\, 8855 Woodbury Rd.\, Laingsburg\, MI\, 48848\, United States
END:VEVENT
BEGIN:VEVENT
DTSTART;VALUE=DATE:20260430
DTEND;VALUE=DATE:20260501
DTSTAMP:20260423T144527
CREATED:20260313T204823Z
LAST-MODIFIED:20260313T204823Z
UID:5413-1777507200-1777593599@www.springvale.us
SUMMARY:7th-12th MI Construction Day
DESCRIPTION:
URL:https://www.springvale.us/event/7th-12th-mi-construction-day/
END:VEVENT
END:VCALENDAR